BEGIN:VCALENDAR
VERSION:2.0
PRODID:-// - ECPv6.2.0.1//NONSGML v1.0//EN
CALSCALE:GREGORIAN
METHOD:PUBLISH
X-ORIGINAL-URL:https://betaniakoti.fi
X-WR-CALDESC:Tapahtumat 
REFRESH-INTERVAL;VALUE=DURATION:PT1H
X-Robots-Tag:noindex
X-PUBLISHED-TTL:PT1H
BEGIN:VTIMEZONE
TZID:Europe/Helsinki
BEGIN:DAYLIGHT
TZOFFSETFROM:+0200
TZOFFSETTO:+0300
TZNAME:EEST
DTSTART:20260329T010000
END:DAYLIGHT
BEGIN:STANDARD
TZOFFSETFROM:+0300
TZOFFSETTO:+0200
TZNAME:EET
DTSTART:20261025T010000
END:STANDARD
END:VTIMEZONE
BEGIN:VEVENT
DTSTART;TZID=Europe/Helsinki:20260417T180000
DTEND;TZID=Europe/Helsinki:20260424T150000
DTSTAMP:20260420T080842
CREATED:20251211T093248Z
LAST-MODIFIED:20251211T093248Z
UID:973-1776448800-1777042800@betaniakoti.fi
SUMMARY:Rukousviikko Larsmossa
DESCRIPTION:
URL:https://betaniakoti.fi/event/rukousviikko-larsmossa-2/
LOCATION:Larsmon Lähetyskoti
END:VEVENT
BEGIN:VEVENT
DTSTART;TZID=Europe/Helsinki:20260515T180000
DTEND;TZID=Europe/Helsinki:20260517T150000
DTSTAMP:20260420T080842
CREATED:20251211T094941Z
LAST-MODIFIED:20260206T082711Z
UID:983-1778868000-1779030000@betaniakoti.fi
SUMMARY:Sisäisen parantumisen\, vapautumisen ja varustamisen koulutus
DESCRIPTION:OHJEMA: \nPerjantai 6.2.\nKlo 18.00 Päivällinen\nKlo 19.00 Aloitustilaisuus\, Opetus 1. Sirkku Chewning\, Zoom \nLauantai 7.2.\nKlo 8.30 Aamiainen\nKlo 9.30  Aamurukous ja ylistys\nKlo 10     Opetus 2. Terttu Ojakoski\nKlo 12     Lounas\nKlo 13     Opetus 3. Marja Kallio\nKlo 15     Kahvi / teetauko\nKlo 16     Opetus 4. Arja Tornberg\nKlo 18     Iltapala\nKlo 19     Opetus 5. Sirkku Chewning Zoom \nSunnuntai 8.2.\nKlo 8.30-9.30 Aamiainen\nKlo 9.30-10    Aamurukous ja ylistys\nKlo 10-11.30  Opetus 6. Vuokko Eräranta\nKlo 11.45-13  Opetus 7. Veijo Katara\, Lähettäminen\nKlo 13            Lounas ja lähtökahvi \nTervetuloa mukaan kaikki entiset ja uudet!
URL:https://betaniakoti.fi/event/sielunhoitokoulutus-betania-kodissa-3/
LOCATION:Betania-koti\, Houhajärventie 1002\, Sammaljoki\, 38270
ORGANIZER;CN="Betania-koti%20ry":MAILTO:betania.koti@gmail.com
END:VEVENT
BEGIN:VEVENT
DTSTART;TZID=Europe/Helsinki:20260522T180000
DTEND;TZID=Europe/Helsinki:20260524T170000
DTSTAMP:20260420T080842
CREATED:20251211T093526Z
LAST-MODIFIED:20251211T101044Z
UID:975-1779472800-1779642000@betaniakoti.fi
SUMMARY:Valtakunta rukoilee - paikka avoin
DESCRIPTION:
URL:https://betaniakoti.fi/event/valtakunta-rukoilee-paikka-avoin/
END:VEVENT
BEGIN:VEVENT
DTSTART;TZID=Europe/Helsinki:20260618T180000
DTEND;TZID=Europe/Helsinki:20260621T170000
DTSTAMP:20260420T080842
CREATED:20251211T093902Z
LAST-MODIFIED:20251211T095937Z
UID:977-1781805600-1782061200@betaniakoti.fi
SUMMARY:Valtakunta rukoilee Kolarissa
DESCRIPTION:
URL:https://betaniakoti.fi/event/valtakunta-rukoilee-kolarissa/
LOCATION:Kolarin kirkko\, Pappilantie 4\, Kolari
END:VEVENT
END:VCALENDAR